BEGIN:VCALENDAR
VERSION:2.0
PRODID:icalendar-ruby
CALSCALE:GREGORIAN
METHOD:PUBLISH
BEGIN:VTIMEZONE
TZID:Australia/Sydney
BEGIN:DAYLIGHT
DTSTART:20261004T030000
TZOFFSETFROM:+1000
TZOFFSETTO:+1100
RRULE:FREQ=YEARLY;BYDAY=1SU;BYMONTH=10
TZNAME:AEDT
END:DAYLIGHT
BEGIN:STANDARD
DTSTART:20260405T020000
TZOFFSETFROM:+1100
TZOFFSETTO:+1000
RRULE:FREQ=YEARLY;BYDAY=1SU;BYMONTH=4
TZNAME:AEST
END:STANDARD
END:VTIMEZONE
BEGIN:VEVENT
DTSTAMP:20260423T095220Z
UID:inspection_3011300
DTSTART;TZID=Australia/Sydney:20260428T160000
DTEND;TZID=Australia/Sydney:20260428T161500
CLASS:PUBLIC
CREATED:20260423T144426
DESCRIPTION: 
LAST-MODIFIED:20260423T144426
LOCATION:7 Ross Place\, ST MARYS NSW 2760\, Australia
SUMMARY:7 Ross Place\,  Inspection
URL;VALUE=URI:https://www.exclusivere.com.au/
END:VEVENT
END:VCALENDAR
